BEGIN:VCALENDAR
VERSION:2.0
PRODID:-//pretix//My_pretix_installation//
BEGIN:VEVENT
UID:pretix-schloss-bf25-0@karten.schloss-batzdorf.de
DTSTART;VALUE=DATE:20250902
DTEND;VALUE=DATE:20250908
DESCRIPTION:Tickets: https://karten.schloss-batzdorf.de/bf25/\nVeranstalter
 : Schloss Batzdorf
DTSTAMP:20260421T121610Z
LOCATION:Schloss Batzdorf\, Schlossstr. 2\, 01665 Klipphausen OT Batzdorf
SUMMARY:33. Batzdorfer Barockfestspiele
END:VEVENT
END:VCALENDAR
