BEGIN:VCALENDAR
VERSION:2.0
PRODID:-//pretix//My_pretix_installation//
BEGIN:VEVENT
UID:pretix-schloss-j25-0@karten.schloss-batzdorf.de
DTSTART;VALUE=DATE:20250913
DTEND;VALUE=DATE:20250915
DESCRIPTION:Tickets: https://karten.schloss-batzdorf.de/j25/\nVeranstalter:
  Schloss Batzdorf
DTSTAMP:20260421T121550Z
LOCATION:Schloss Batzdorf\, Schlossstr. 2\,  01665 Klipphausen
SUMMARY:Jazzfeudal 2025
END:VEVENT
END:VCALENDAR
